BEGIN:VCALENDAR
PRODID:-//AT Content Types//AT Event//EN
VERSION:1.0
BEGIN:VEVENT
DTSTART:20160629T120000Z
DTEND:20160629T154000Z
DCREATED:20160507T181720Z
UID:ATEvent-22d99d7e123f44bb8a7060a056cd04d8
SEQUENCE:0
LAST-MODIFIED:20160509T070239Z
SUMMARY:Organized Tour to Aquileia
DESCRIPTION:Aquileia is listed by UNESCO as a World Heritage Site and 
 is undoubtedly one of the standouts of the Region of Friuli Venezia Gi
 ulia.
PRIORITY:3
TRANSP:0
END:VEVENT
END:VCALENDAR
